BEGIN:VCALENDAR
VERSION:2.0
PRODID:-//REBS website - ECPv6.15.20//NONSGML v1.0//EN
CALSCALE:GREGORIAN
METHOD:PUBLISH
X-ORIGINAL-URL:https://www.rebsbonsai.org
X-WR-CALDESC:Events for REBS website
REFRESH-INTERVAL;VALUE=DURATION:PT1H
X-Robots-Tag:noindex
X-PUBLISHED-TTL:PT1H
BEGIN:VTIMEZONE
TZID:America/Los_Angeles
BEGIN:DAYLIGHT
TZOFFSETFROM:-0800
TZOFFSETTO:-0700
TZNAME:PDT
DTSTART:20190310T100000
END:DAYLIGHT
BEGIN:STANDARD
TZOFFSETFROM:-0700
TZOFFSETTO:-0800
TZNAME:PST
DTSTART:20191103T090000
END:STANDARD
BEGIN:DAYLIGHT
TZOFFSETFROM:-0800
TZOFFSETTO:-0700
TZNAME:PDT
DTSTART:20200308T100000
END:DAYLIGHT
BEGIN:STANDARD
TZOFFSETFROM:-0700
TZOFFSETTO:-0800
TZNAME:PST
DTSTART:20201101T090000
END:STANDARD
BEGIN:DAYLIGHT
TZOFFSETFROM:-0800
TZOFFSETTO:-0700
TZNAME:PDT
DTSTART:20210314T100000
END:DAYLIGHT
BEGIN:STANDARD
TZOFFSETFROM:-0700
TZOFFSETTO:-0800
TZNAME:PST
DTSTART:20211107T090000
END:STANDARD
BEGIN:DAYLIGHT
TZOFFSETFROM:-0800
TZOFFSETTO:-0700
TZNAME:PDT
DTSTART:20220313T100000
END:DAYLIGHT
BEGIN:STANDARD
TZOFFSETFROM:-0700
TZOFFSETTO:-0800
TZNAME:PST
DTSTART:20221106T090000
END:STANDARD
BEGIN:DAYLIGHT
TZOFFSETFROM:-0800
TZOFFSETTO:-0700
TZNAME:PDT
DTSTART:20230312T100000
END:DAYLIGHT
BEGIN:STANDARD
TZOFFSETFROM:-0700
TZOFFSETTO:-0800
TZNAME:PST
DTSTART:20231105T090000
END:STANDARD
BEGIN:DAYLIGHT
TZOFFSETFROM:-0800
TZOFFSETTO:-0700
TZNAME:PDT
DTSTART:20240310T100000
END:DAYLIGHT
BEGIN:STANDARD
TZOFFSETFROM:-0700
TZOFFSETTO:-0800
TZNAME:PST
DTSTART:20241103T090000
END:STANDARD
BEGIN:DAYLIGHT
TZOFFSETFROM:-0800
TZOFFSETTO:-0700
TZNAME:PDT
DTSTART:20250309T100000
END:DAYLIGHT
BEGIN:STANDARD
TZOFFSETFROM:-0700
TZOFFSETTO:-0800
TZNAME:PST
DTSTART:20251102T090000
END:STANDARD
END:VTIMEZONE
BEGIN:VEVENT
DTSTART;TZID=America/Los_Angeles:20241121T181500
DTEND;TZID=America/Los_Angeles:20241121T191500
DTSTAMP:20260424T114256
CREATED:20231212T002524Z
LAST-MODIFIED:20231212T002524Z
UID:9081-1732212900-1732216500@www.rebsbonsai.org
SUMMARY:Board Meeting
DESCRIPTION:Members welcomed.
URL:https://www.rebsbonsai.org/event/board-meeting-16/
LOCATION:Rohnert Park Community Center\, 5401 Snyder Lane\, Rohnert Park\, CA\, 94928\, United States
CATEGORIES:REBS Board Meeting
ORGANIZER;CN="Alan Murakami":MAILTO:amurakami6@yahoo.com
END:VEVENT
BEGIN:VEVENT
DTSTART;TZID=America/Los_Angeles:20240926T181500
DTEND;TZID=America/Los_Angeles:20240926T191500
DTSTAMP:20260424T114256
CREATED:20231212T001321Z
LAST-MODIFIED:20231212T001321Z
UID:9072-1727374500-1727378100@www.rebsbonsai.org
SUMMARY:Board Meeting
DESCRIPTION:Members welcomed.
URL:https://www.rebsbonsai.org/event/board-meeting-14/
LOCATION:Rohnert Park Community Center\, 5401 Snyder Lane\, Rohnert Park\, CA\, 94928\, United States
CATEGORIES:REBS Board Meeting
ORGANIZER;CN="Alan Murakami":MAILTO:amurakami6@yahoo.com
END:VEVENT
BEGIN:VEVENT
DTSTART;TZID=America/Los_Angeles:20240725T181500
DTEND;TZID=America/Los_Angeles:20240725T191500
DTSTAMP:20260424T114256
CREATED:20231206T071559Z
LAST-MODIFIED:20231206T071559Z
UID:9043-1721931300-1721934900@www.rebsbonsai.org
SUMMARY:Board Meeting
DESCRIPTION:Members are welcomed!
URL:https://www.rebsbonsai.org/event/board-meeting-13/
LOCATION:Rohnert Park Community Center\, 5401 Snyder Lane\, Rohnert Park\, CA\, 94928\, United States
CATEGORIES:REBS Board Meeting
ORGANIZER;CN="Ivan Lukrich":MAILTO:lukrich@sonic.net
END:VEVENT
BEGIN:VEVENT
DTSTART;TZID=America/Los_Angeles:20240627T181500
DTEND;TZID=America/Los_Angeles:20240627T191500
DTSTAMP:20260424T114256
CREATED:20231204T184934Z
LAST-MODIFIED:20231204T184934Z
UID:9035-1719512100-1719515700@www.rebsbonsai.org
SUMMARY:Board Meeting
DESCRIPTION:Get involved! Members are welcomed.
URL:https://www.rebsbonsai.org/event/board-meeting-12/
LOCATION:Rohnert Park Community Center\, 5401 Snyder Lane\, Rohnert Park\, CA\, 94928\, United States
CATEGORIES:REBS Board Meeting
ORGANIZER;CN="Ivan Lukrich":MAILTO:lukrich@sonic.net
END:VEVENT
BEGIN:VEVENT
DTSTART;TZID=America/Los_Angeles:20240523T181500
DTEND;TZID=America/Los_Angeles:20240523T191500
DTSTAMP:20260424T114256
CREATED:20231204T183210Z
LAST-MODIFIED:20231204T183210Z
UID:9026-1716488100-1716491700@www.rebsbonsai.org
SUMMARY:Board Meeting
DESCRIPTION:Members are welcomed!
URL:https://www.rebsbonsai.org/event/board-meeting-11/
LOCATION:Rohnert Park Community Center\, 5401 Snyder Lane\, Rohnert Park\, CA\, 94928\, United States
CATEGORIES:REBS Board Meeting
ORGANIZER;CN="Ivan Lukrich":MAILTO:lukrich@sonic.net
END:VEVENT
BEGIN:VEVENT
DTSTART;TZID=America/Los_Angeles:20240425T181500
DTEND;TZID=America/Los_Angeles:20240425T191500
DTSTAMP:20260424T114256
CREATED:20231204T182608Z
LAST-MODIFIED:20231204T182608Z
UID:9022-1714068900-1714072500@www.rebsbonsai.org
SUMMARY:Board Meeting
DESCRIPTION:Members are welcomed!
URL:https://www.rebsbonsai.org/event/board-meeting-10/
LOCATION:Rohnert Park Community Center\, 5401 Snyder Lane\, Rohnert Park\, CA\, 94928\, United States
CATEGORIES:REBS Board Meeting
ORGANIZER;CN="Ivan Lukrich":MAILTO:lukrich@sonic.net
END:VEVENT
BEGIN:VEVENT
DTSTART;TZID=America/Los_Angeles:20240328T181500
DTEND;TZID=America/Los_Angeles:20240328T191500
DTSTAMP:20260424T114256
CREATED:20231204T181132Z
LAST-MODIFIED:20231204T181132Z
UID:9017-1711649700-1711653300@www.rebsbonsai.org
SUMMARY:Board Meeting
DESCRIPTION:Members are welcomed!
URL:https://www.rebsbonsai.org/event/board-meeting-9/
LOCATION:Rohnert Park Community Center\, 5401 Snyder Lane\, Rohnert Park\, CA\, 94928\, United States
CATEGORIES:REBS Board Meeting
ORGANIZER;CN="Ivan Lukrich":MAILTO:lukrich@sonic.net
END:VEVENT
BEGIN:VEVENT
DTSTART;TZID=America/Los_Angeles:20240222T181500
DTEND;TZID=America/Los_Angeles:20240222T191500
DTSTAMP:20260424T114256
CREATED:20231204T180644Z
LAST-MODIFIED:20231204T180644Z
UID:9013-1708625700-1708629300@www.rebsbonsai.org
SUMMARY:Board Meeting
DESCRIPTION:Members are welcomed!
URL:https://www.rebsbonsai.org/event/board-meeting-8/
LOCATION:Rohnert Park Community Center\, 5401 Snyder Lane\, Rohnert Park\, CA\, 94928\, United States
CATEGORIES:REBS Board Meeting
ORGANIZER;CN="Ivan Lukrich":MAILTO:lukrich@sonic.net
END:VEVENT
BEGIN:VEVENT
DTSTART;TZID=America/Los_Angeles:20240125T181500
DTEND;TZID=America/Los_Angeles:20240125T191500
DTSTAMP:20260424T114256
CREATED:20231204T175911Z
LAST-MODIFIED:20231204T175911Z
UID:9008-1706206500-1706210100@www.rebsbonsai.org
SUMMARY:Board Meeting
DESCRIPTION:Members are welcome!
URL:https://www.rebsbonsai.org/event/board-meeting-7/
LOCATION:Rohnert Park Community Center\, 5401 Snyder Lane\, Rohnert Park\, CA\, 94928\, United States
CATEGORIES:REBS Board Meeting
ORGANIZER;CN="Ivan Lukrich":MAILTO:lukrich@sonic.net
END:VEVENT
BEGIN:VEVENT
DTSTART;TZID=America/Los_Angeles:20231116T181500
DTEND;TZID=America/Los_Angeles:20231116T191500
DTSTAMP:20260424T114256
CREATED:20230313T042613Z
LAST-MODIFIED:20230313T042613Z
UID:7777-1700158500-1700162100@www.rebsbonsai.org
SUMMARY:Monthly Board Meeting
DESCRIPTION:Board meeting meets one week early in November due to Thanksgiving
URL:https://www.rebsbonsai.org/event/monthly-board-meeting-10/
LOCATION:Rohnert Park Community Center\, 5401 Snyder Lane\, Rohnert Park\, CA\, 94928\, United States
CATEGORIES:REBS Board Meeting
ORGANIZER;CN="Alan Murakami":MAILTO:amurakami6@yahoo.com
END:VEVENT
BEGIN:VEVENT
DTSTART;TZID=America/Los_Angeles:20231026T193000
DTEND;TZID=America/Los_Angeles:20231026T193000
DTSTAMP:20260424T114256
CREATED:20230313T042136Z
LAST-MODIFIED:20230313T042136Z
UID:7773-1698348600-1698348600@www.rebsbonsai.org
SUMMARY:Monthly Board Meeting
DESCRIPTION:
URL:https://www.rebsbonsai.org/event/monthly-board-meeting-9/
LOCATION:Rohnert Park Community Center\, 5401 Snyder Lane\, Rohnert Park\, CA\, 94928\, United States
CATEGORIES:REBS Board Meeting
ORGANIZER;CN="Alan Murakami":MAILTO:amurakami6@yahoo.com
END:VEVENT
BEGIN:VEVENT
DTSTART;TZID=America/Los_Angeles:20230928T181500
DTEND;TZID=America/Los_Angeles:20230928T191500
DTSTAMP:20260424T114256
CREATED:20230313T041745Z
LAST-MODIFIED:20230313T041745Z
UID:7769-1695924900-1695928500@www.rebsbonsai.org
SUMMARY:Monthly Board Meeting
DESCRIPTION:
URL:https://www.rebsbonsai.org/event/monthly-board-meeting-8/
LOCATION:Rohnert Park Community Center\, 5401 Snyder Lane\, Rohnert Park\, CA\, 94928\, United States
CATEGORIES:REBS Board Meeting
ORGANIZER;CN="Alan Murakami":MAILTO:amurakami6@yahoo.com
END:VEVENT
BEGIN:VEVENT
DTSTART;TZID=America/Los_Angeles:20230831T181500
DTEND;TZID=America/Los_Angeles:20230831T191500
DTSTAMP:20260424T114256
CREATED:20230313T041438Z
LAST-MODIFIED:20230313T041438Z
UID:7765-1693505700-1693509300@www.rebsbonsai.org
SUMMARY:Monthly Board Meeting
DESCRIPTION:
URL:https://www.rebsbonsai.org/event/monthly-board-meeting-7/
LOCATION:Rohnert Park Community Center\, 5401 Snyder Lane\, Rohnert Park\, CA\, 94928\, United States
CATEGORIES:REBS Board Meeting
ORGANIZER;CN="Alan Murakami":MAILTO:amurakami6@yahoo.com
END:VEVENT
BEGIN:VEVENT
DTSTART;TZID=America/Los_Angeles:20230622T181500
DTEND;TZID=America/Los_Angeles:20230622T191500
DTSTAMP:20260424T114256
CREATED:20230313T040723Z
LAST-MODIFIED:20230313T040723Z
UID:7759-1687457700-1687461300@www.rebsbonsai.org
SUMMARY:Monthly Board Meeting
DESCRIPTION:
URL:https://www.rebsbonsai.org/event/monthly-board-meeting-6/
LOCATION:Rohnert Park Community Center\, 5401 Snyder Lane\, Rohnert Park\, CA\, 94928\, United States
CATEGORIES:REBS Board Meeting
ORGANIZER;CN="Alan Murakami":MAILTO:amurakami6@yahoo.com
END:VEVENT
BEGIN:VEVENT
DTSTART;TZID=America/Los_Angeles:20230525T181500
DTEND;TZID=America/Los_Angeles:20230525T191500
DTSTAMP:20260424T114256
CREATED:20230313T040532Z
LAST-MODIFIED:20230313T040532Z
UID:7757-1685038500-1685042100@www.rebsbonsai.org
SUMMARY:Monthly Board Meeting
DESCRIPTION:
URL:https://www.rebsbonsai.org/event/monthly-board-meeting-4/
LOCATION:Rohnert Park Community Center\, 5401 Snyder Lane\, Rohnert Park\, CA\, 94928\, United States
CATEGORIES:REBS Board Meeting
ORGANIZER;CN="Alan Murakami":MAILTO:amurakami6@yahoo.com
END:VEVENT
BEGIN:VEVENT
DTSTART;TZID=America/Los_Angeles:20230427T191500
DTEND;TZID=America/Los_Angeles:20230427T191500
DTSTAMP:20260424T114256
CREATED:20230313T035343Z
LAST-MODIFIED:20230313T035343Z
UID:7751-1682622900-1682622900@www.rebsbonsai.org
SUMMARY:Monthly Board Meeting
DESCRIPTION:
URL:https://www.rebsbonsai.org/event/monthly-board-meeting-5/
LOCATION:Rohnert Park Community Center\, 5401 Snyder Lane\, Rohnert Park\, CA\, 94928\, United States
CATEGORIES:REBS Board Meeting
ORGANIZER;CN="Alan Murakami":MAILTO:amurakami6@yahoo.com
END:VEVENT
BEGIN:VEVENT
DTSTART;TZID=America/Los_Angeles:20230323T181500
DTEND;TZID=America/Los_Angeles:20230323T191500
DTSTAMP:20260424T114256
CREATED:20230313T034744Z
LAST-MODIFIED:20230313T034744Z
UID:7742-1679595300-1679598900@www.rebsbonsai.org
SUMMARY:Monthly Board Meeting
DESCRIPTION:
URL:https://www.rebsbonsai.org/event/monthly-board-meeting-3/
LOCATION:Rohnert Park Community Center\, 5401 Snyder Lane\, Rohnert Park\, CA\, 94928\, United States
CATEGORIES:REBS Board Meeting
ORGANIZER;CN="Alan Murakami":MAILTO:amurakami6@yahoo.com
END:VEVENT
BEGIN:VEVENT
DTSTART;TZID=America/Los_Angeles:20230223T181500
DTEND;TZID=America/Los_Angeles:20230223T191500
DTSTAMP:20260424T114256
CREATED:20230313T040219Z
LAST-MODIFIED:20230313T040219Z
UID:7755-1677176100-1677179700@www.rebsbonsai.org
SUMMARY:Monthly Board Meeting
DESCRIPTION:
URL:https://www.rebsbonsai.org/event/monthly-board-meeting-2/
LOCATION:Rohnert Park Community Center\, 5401 Snyder Lane\, Rohnert Park\, CA\, 94928\, United States
CATEGORIES:REBS Board Meeting
ORGANIZER;CN="Alan Murakami":MAILTO:amurakami6@yahoo.com
END:VEVENT
BEGIN:VEVENT
DTSTART;TZID=America/Los_Angeles:20230126T183000
DTEND;TZID=America/Los_Angeles:20230126T193000
DTSTAMP:20260424T114256
CREATED:20230313T033941Z
LAST-MODIFIED:20230313T033941Z
UID:7733-1674757800-1674761400@www.rebsbonsai.org
SUMMARY:Monthly Board Meeting
DESCRIPTION:
URL:https://www.rebsbonsai.org/event/monthly-board-meeting/
LOCATION:Rohnert Park Community Center\, 5401 Snyder Lane\, Rohnert Park\, CA\, 94928\, United States
CATEGORIES:REBS Board Meeting
ORGANIZER;CN="Alan Murakami":MAILTO:amurakami6@yahoo.com
END:VEVENT
BEGIN:VEVENT
DTSTART;TZID=America/Los_Angeles:20221117T183000
DTEND;TZID=America/Los_Angeles:20221117T193000
DTSTAMP:20260424T114256
CREATED:20220809T133035Z
LAST-MODIFIED:20220809T133035Z
UID:6533-1668709800-1668713400@www.rebsbonsai.org
SUMMARY:Board Meeting
DESCRIPTION:REBS Board Meeting. Members welcome.
URL:https://www.rebsbonsai.org/event/board-meeting-6/
LOCATION:Rohnert Park Community Center\, 5401 Snyder Lane\, Rohnert Park\, CA\, 94928\, United States
CATEGORIES:REBS Board Meeting
ORGANIZER;CN="Alan Murakami":MAILTO:amurakami6@yahoo.com
END:VEVENT
BEGIN:VEVENT
DTSTART;TZID=America/Los_Angeles:20221027T063000
DTEND;TZID=America/Los_Angeles:20221027T193000
DTSTAMP:20260424T114256
CREATED:20220809T132746Z
LAST-MODIFIED:20220809T132746Z
UID:6531-1666852200-1666899000@www.rebsbonsai.org
SUMMARY:Board Meeting
DESCRIPTION:REBS Board Meeting. Members welcome.
URL:https://www.rebsbonsai.org/event/board-meeting-5/
LOCATION:Rohnert Park Community Center\, 5401 Snyder Lane\, Rohnert Park\, CA\, 94928\, United States
CATEGORIES:REBS Board Meeting
ORGANIZER;CN="Alan Murakami":MAILTO:amurakami6@yahoo.com
END:VEVENT
BEGIN:VEVENT
DTSTART;TZID=America/Los_Angeles:20220922T183000
DTEND;TZID=America/Los_Angeles:20220922T193000
DTSTAMP:20260424T114256
CREATED:20220809T132444Z
LAST-MODIFIED:20220809T132533Z
UID:6529-1663871400-1663875000@www.rebsbonsai.org
SUMMARY:Board Meeting
DESCRIPTION:REBS Board Meeting. Members welcome.
URL:https://www.rebsbonsai.org/event/board-meeting-4/
LOCATION:Rohnert Park Community Center\, 5401 Snyder Lane\, Rohnert Park\, CA\, 94928\, United States
CATEGORIES:REBS Board Meeting
ORGANIZER;CN="Alan Murakami":MAILTO:amurakami6@yahoo.com
END:VEVENT
BEGIN:VEVENT
DTSTART;TZID=America/Los_Angeles:20220825T183000
DTEND;TZID=America/Los_Angeles:20220825T193000
DTSTAMP:20260424T114256
CREATED:20220809T131758Z
LAST-MODIFIED:20220809T131758Z
UID:6525-1661452200-1661455800@www.rebsbonsai.org
SUMMARY:Board Meeting
DESCRIPTION:REBS Board Meeting. Members welcome.
URL:https://www.rebsbonsai.org/event/board-meeting-3/
LOCATION:Rohnert Park Community Center\, 5401 Snyder Lane\, Rohnert Park\, CA\, 94928\, United States
CATEGORIES:REBS Board Meeting
ORGANIZER;CN="Alan Murakami":MAILTO:amurakami6@yahoo.com
END:VEVENT
BEGIN:VEVENT
DTSTART;TZID=America/Los_Angeles:20220428T183000
DTEND;TZID=America/Los_Angeles:20220428T193000
DTSTAMP:20260424T114256
CREATED:20220328T123314Z
LAST-MODIFIED:20220328T123314Z
UID:6014-1651170600-1651174200@www.rebsbonsai.org
SUMMARY:REBS Board Meeting
DESCRIPTION:REBS Board Meeting
URL:https://www.rebsbonsai.org/event/rebs-board-meeting-4/
LOCATION:Franklin Park Clubhouse\, 2095 Franklin Avenue\, Santa Rosa\, CA\, 95404\, United States
CATEGORIES:REBS Board Meeting
ORGANIZER;CN="Alan Murakami":MAILTO:amurakami6@yahoo.com
END:VEVENT
BEGIN:VEVENT
DTSTART;TZID=America/Los_Angeles:20200225T183000
DTEND;TZID=America/Los_Angeles:20200225T193000
DTSTAMP:20260424T114256
CREATED:20200113T035642Z
LAST-MODIFIED:20200113T035820Z
UID:2807-1582655400-1582659000@www.rebsbonsai.org
SUMMARY:REBS Board Meeting
DESCRIPTION:
URL:https://www.rebsbonsai.org/event/rebs-board-meeting/
LOCATION:Luther Burbank Art and Garden Center\, 2050 Yulupa Avenue\, Santa Rosa\, CA
CATEGORIES:REBS Board Meeting
ORGANIZER;CN="Bob Shimon":MAILTO:shimon@mcn.org
END:VEVENT
END:VCALENDAR