BEGIN:VCALENDAR
VERSION:2.0
PRODID:-//REBS website - ECPv6.15.20//NONSGML v1.0//EN
CALSCALE:GREGORIAN
METHOD:PUBLISH
X-ORIGINAL-URL:https://www.rebsbonsai.org
X-WR-CALDESC:Events for REBS website
REFRESH-INTERVAL;VALUE=DURATION:PT1H
X-Robots-Tag:noindex
X-PUBLISHED-TTL:PT1H
BEGIN:VTIMEZONE
TZID:America/Los_Angeles
BEGIN:DAYLIGHT
TZOFFSETFROM:-0800
TZOFFSETTO:-0700
TZNAME:PDT
DTSTART:20230312T100000
END:DAYLIGHT
BEGIN:STANDARD
TZOFFSETFROM:-0700
TZOFFSETTO:-0800
TZNAME:PST
DTSTART:20231105T090000
END:STANDARD
BEGIN:DAYLIGHT
TZOFFSETFROM:-0800
TZOFFSETTO:-0700
TZNAME:PDT
DTSTART:20240310T100000
END:DAYLIGHT
BEGIN:STANDARD
TZOFFSETFROM:-0700
TZOFFSETTO:-0800
TZNAME:PST
DTSTART:20241103T090000
END:STANDARD
BEGIN:DAYLIGHT
TZOFFSETFROM:-0800
TZOFFSETTO:-0700
TZNAME:PDT
DTSTART:20250309T100000
END:DAYLIGHT
BEGIN:STANDARD
TZOFFSETFROM:-0700
TZOFFSETTO:-0800
TZNAME:PST
DTSTART:20251102T090000
END:STANDARD
BEGIN:DAYLIGHT
TZOFFSETFROM:-0800
TZOFFSETTO:-0700
TZNAME:PDT
DTSTART:20260308T100000
END:DAYLIGHT
BEGIN:STANDARD
TZOFFSETFROM:-0700
TZOFFSETTO:-0800
TZNAME:PST
DTSTART:20261101T090000
END:STANDARD
BEGIN:DAYLIGHT
TZOFFSETFROM:-0800
TZOFFSETTO:-0700
TZNAME:PDT
DTSTART:20270314T100000
END:DAYLIGHT
BEGIN:STANDARD
TZOFFSETFROM:-0700
TZOFFSETTO:-0800
TZNAME:PST
DTSTART:20271107T090000
END:STANDARD
END:VTIMEZONE
BEGIN:VEVENT
DTSTART;TZID=America/Los_Angeles:20240725T193000
DTEND;TZID=America/Los_Angeles:20240725T213000
DTSTAMP:20260423T120947
CREATED:20231206T072059Z
LAST-MODIFIED:20231211T235859Z
UID:9045-1721935800-1721943000@www.rebsbonsai.org
SUMMARY:General Meeting and Demo
DESCRIPTION:Special guest artist Lucy Sakaishi-Judd will conduct a workshop on Kusamono.  \nA limited number of members will enjoy creating their own Kusamono and accent plants.\nLucy says she will bring enough materials (plants) for all participants.  So\, a special fee will cover the plants. \nThe member participants need only bring a willingness to play and two small pots/containers for their plantings. \nAnyone who attends the meeting can watch and observe. \nAs we get closer to the date\, members will need to RSVP their participation. More details forthcoming!
URL:https://www.rebsbonsai.org/event/general-meeting-and-demo-7/
LOCATION:Rohnert Park Community Center\, 5401 Snyder Lane\, Rohnert Park\, CA\, 94928\, United States
CATEGORIES:Members' Workshop,Monthly Meeting/Demo
ORGANIZER;CN="Alan Murakami":MAILTO:amurakami6@yahoo.com
END:VEVENT
BEGIN:VEVENT
DTSTART;TZID=America/Los_Angeles:20240926T193000
DTEND;TZID=America/Los_Angeles:20240926T213000
DTSTAMP:20260423T120947
CREATED:20231212T001647Z
LAST-MODIFIED:20231212T001647Z
UID:9075-1727379000-1727386200@www.rebsbonsai.org
SUMMARY:General Meeting and Demo
DESCRIPTION:Special guest artist Jonas Dupuich of Bonsai Tonight will provide a REBS annual show critique.
URL:https://www.rebsbonsai.org/event/general-meeting-and-demo-8/
LOCATION:Rohnert Park Community Center\, 5401 Snyder Lane\, Rohnert Park\, CA\, 94928\, United States
CATEGORIES:Monthly Meeting/Demo
ORGANIZER;CN="Alan Murakami":MAILTO:amurakami6@yahoo.com
END:VEVENT
BEGIN:VEVENT
DTSTART;TZID=America/Los_Angeles:20241024T180000
DTEND;TZID=America/Los_Angeles:20241024T210000
DTSTAMP:20260423T120947
CREATED:20240504T173649Z
LAST-MODIFIED:20240504T173649Z
UID:9970-1729792800-1729803600@www.rebsbonsai.org
SUMMARY:Bjorn Bjorholm Bonsai Demonstration
DESCRIPTION:Shimpaku Juniper field grown by Ed Clark of Round Valley Nursery. \nRohnert Park Senior Center\, 6800 Hunter Drive\, Rohnert Park\, California 94928 \nNote: Location is not REBS’ regular monthly meeting venue\, but located nearby. \nNo fee \nDemo tree will be raffled \nNo RSVP\, seating capacity of 75
URL:https://www.rebsbonsai.org/event/bjorn-bjorholm-bonsai-demonstration/
LOCATION:Rohnert Park Senior Center\, 6800 Hunter Drive\, Rohnert Park\, CA\, 94928\, United States
CATEGORIES:Monthly Meeting/Demo
ORGANIZER;CN="Bob Shimon":MAILTO:shimon@mcn.org
END:VEVENT
BEGIN:VEVENT
DTSTART;TZID=America/Los_Angeles:20241121T193000
DTEND;TZID=America/Los_Angeles:20241121T213000
DTSTAMP:20260423T120947
CREATED:20231212T002747Z
LAST-MODIFIED:20231212T002747Z
UID:9084-1732217400-1732224600@www.rebsbonsai.org
SUMMARY:General Meeting and Demo
DESCRIPTION:Special guest artist Boon Manakitivipart TBD
URL:https://www.rebsbonsai.org/event/general-meeting-and-demo-10/
LOCATION:Rohnert Park Community Center\, 5401 Snyder Lane\, Rohnert Park\, CA\, 94928\, United States
CATEGORIES:Monthly Meeting/Demo
ORGANIZER;CN="Alan Murakami":MAILTO:amurakami6@yahoo.com
END:VEVENT
BEGIN:VEVENT
DTSTART;TZID=America/Los_Angeles:20260122T190000
DTEND;TZID=America/Los_Angeles:20260122T210000
DTSTAMP:20260423T120947
CREATED:20260118T182344Z
LAST-MODIFIED:20260118T182344Z
UID:11691-1769108400-1769115600@www.rebsbonsai.org
SUMMARY:Guest Artist Bob Shimon Demonstration
DESCRIPTION:Guest Artist Bob Shimon: Pygmy Cypress Styling. Bob founded Mendocino Coast Bonsai in 1995 and specializes in Redwood\, Sierra Juniper\, Mendocino Pygmy Cypress\, and Live Oak yamadori (collected from the wild).
URL:https://www.rebsbonsai.org/event/guest-artist-bob-shimon-demonstration/
LOCATION:Rohnert Park Community Center\, 5401 Snyder Lane\, Rohnert Park\, CA\, 94928\, United States
CATEGORIES:Monthly Meeting/Demo
ORGANIZER;CN="Bob Shimon":MAILTO:shimon@mcn.org
END:VEVENT
BEGIN:VEVENT
DTSTART;TZID=America/Los_Angeles:20260226T190000
DTEND;TZID=America/Los_Angeles:20260226T210000
DTSTAMP:20260423T120947
CREATED:20260118T174725Z
LAST-MODIFIED:20260118T174725Z
UID:11693-1772132400-1772139600@www.rebsbonsai.org
SUMMARY:Guest Artist Matthew Walker Demonstration
DESCRIPTION:Guest Artist Matthew Walker: Demo Root over Rock bonsai style.
URL:https://www.rebsbonsai.org/event/guest-artist-matthew-walker-demonstration/
LOCATION:Rohnert Park Community Center\, 5401 Snyder Lane\, Rohnert Park\, CA\, 94928\, United States
CATEGORIES:Monthly Meeting/Demo
ORGANIZER;CN="Bob Shimon":MAILTO:shimon@mcn.org
END:VEVENT
BEGIN:VEVENT
DTSTART;TZID=America/Los_Angeles:20260326T190000
DTEND;TZID=America/Los_Angeles:20260326T210000
DTSTAMP:20260423T120947
CREATED:20260118T174909Z
LAST-MODIFIED:20260118T174909Z
UID:11695-1774551600-1774558800@www.rebsbonsai.org
SUMMARY:Guest Artist Addison Galambos Demonstration
DESCRIPTION:– Guest Artist Addison Galambos: Demo on Juniper.
URL:https://www.rebsbonsai.org/event/guest-artist-addison-galambos-demonstration/
LOCATION:Rohnert Park Community Center\, 5401 Snyder Lane\, Rohnert Park\, CA\, 94928\, United States
CATEGORIES:Monthly Meeting/Demo
ORGANIZER;CN="Bob Shimon":MAILTO:shimon@mcn.org
END:VEVENT
BEGIN:VEVENT
DTSTART;TZID=America/Los_Angeles:20260423T190000
DTEND;TZID=America/Los_Angeles:20260423T210000
DTSTAMP:20260423T120947
CREATED:20260118T175220Z
LAST-MODIFIED:20260118T182140Z
UID:11699-1776970800-1776978000@www.rebsbonsai.org
SUMMARY:Guest Artist Sam Tan Demonstration
DESCRIPTION:Guest Artist Sam Tan: Demo on Juniper. Sam studied intensively under the renowned Ryan Neil at Bonsai Mirai in 2019.
URL:https://www.rebsbonsai.org/event/guest-artist-paul-holtzen-demonstration/
LOCATION:Rohnert Park Community Center\, 5401 Snyder Lane\, Rohnert Park\, CA\, 94928\, United States
CATEGORIES:Monthly Meeting/Demo
ORGANIZER;CN="Bob Shimon":MAILTO:shimon@mcn.org
END:VEVENT
BEGIN:VEVENT
DTSTART;TZID=America/Los_Angeles:20260528T190000
DTEND;TZID=America/Los_Angeles:20260528T210000
DTSTAMP:20260423T120947
CREATED:20260118T175357Z
LAST-MODIFIED:20260118T182007Z
UID:11701-1779994800-1780002000@www.rebsbonsai.org
SUMMARY:Guest Artist Paul Holtzen Demonstration
DESCRIPTION:Guest Artist Paul Holtzen: Demo on Boxwood.
URL:https://www.rebsbonsai.org/event/guest-artist-eric-schrader-demonstration/
LOCATION:Rohnert Park Community Center\, 5401 Snyder Lane\, Rohnert Park\, CA\, 94928\, United States
CATEGORIES:Monthly Meeting/Demo
ORGANIZER;CN="Bob Shimon":MAILTO:shimon@mcn.org
END:VEVENT
BEGIN:VEVENT
DTSTART;TZID=America/Los_Angeles:20260723T190000
DTEND;TZID=America/Los_Angeles:20260723T210000
DTSTAMP:20260423T120947
CREATED:20260118T175552Z
LAST-MODIFIED:20260118T175552Z
UID:11703-1784833200-1784840400@www.rebsbonsai.org
SUMMARY:Guest Artist John Doig Demonstration
DESCRIPTION:Guest Artist John Doig: Demo on Olive. John gave a notable demo in 2025\, which involved a discussion of how to split a trunk to produce attractive deadwood.
URL:https://www.rebsbonsai.org/event/guest-artist-john-doig-demonstration/
LOCATION:Rohnert Park Community Center\, 5401 Snyder Lane\, Rohnert Park\, CA\, 94928\, United States
CATEGORIES:Monthly Meeting/Demo
ORGANIZER;CN="Bob Shimon":MAILTO:shimon@mcn.org
END:VEVENT
BEGIN:VEVENT
DTSTART;TZID=America/Los_Angeles:20260827T190000
DTEND;TZID=America/Los_Angeles:20260827T210000
DTSTAMP:20260423T120947
CREATED:20260118T175745Z
LAST-MODIFIED:20260118T175745Z
UID:11705-1787857200-1787864400@www.rebsbonsai.org
SUMMARY:No Meetings due to scheduled Bonsai Show
DESCRIPTION:
URL:https://www.rebsbonsai.org/event/no-meetings-due-to-scheduled-bonsai-show/
LOCATION:CA
CATEGORIES:Monthly Meeting/Demo
ORGANIZER;CN="Bob Shimon":MAILTO:shimon@mcn.org
END:VEVENT
BEGIN:VEVENT
DTSTART;TZID=America/Los_Angeles:20260924T190000
DTEND;TZID=America/Los_Angeles:20260924T210000
DTSTAMP:20260423T120947
CREATED:20260118T175948Z
LAST-MODIFIED:20260118T175948Z
UID:11707-1790276400-1790283600@www.rebsbonsai.org
SUMMARY:Guest Artist Adam Toth REBS Show Critique
DESCRIPTION:Adam Toth:	REBS Show Critique.	Adam apprenticed in Japan under Mr.Taiga Urushibata.
URL:https://www.rebsbonsai.org/event/guest-artist-adam-toth-rebs-show-critique/
LOCATION:Rohnert Park Community Center\, 5401 Snyder Lane\, Rohnert Park\, CA\, 94928\, United States
CATEGORIES:Monthly Meeting/Demo
ORGANIZER;CN="Bob Shimon":MAILTO:shimon@mcn.org
END:VEVENT
BEGIN:VEVENT
DTSTART;TZID=America/Los_Angeles:20261022T190000
DTEND;TZID=America/Los_Angeles:20261022T210000
DTSTAMP:20260423T120947
CREATED:20260118T180118Z
LAST-MODIFIED:20260118T180118Z
UID:11709-1792695600-1792702800@www.rebsbonsai.org
SUMMARY:Meeting TBD
DESCRIPTION:TBD
URL:https://www.rebsbonsai.org/event/meeting-tbd/
LOCATION:Rohnert Park Community Center\, 5401 Snyder Lane\, Rohnert Park\, CA\, 94928\, United States
CATEGORIES:Monthly Meeting/Demo
ORGANIZER;CN="Bob Shimon":MAILTO:shimon@mcn.org
END:VEVENT
BEGIN:VEVENT
DTSTART;TZID=America/Los_Angeles:20261119T190000
DTEND;TZID=America/Los_Angeles:20261119T210000
DTSTAMP:20260423T120947
CREATED:20260118T180319Z
LAST-MODIFIED:20260118T180319Z
UID:11712-1795114800-1795122000@www.rebsbonsai.org
SUMMARY:Meeting TBD
DESCRIPTION:TBD
URL:https://www.rebsbonsai.org/event/meeting-tbd-2/
LOCATION:Rohnert Park Community Center\, 5401 Snyder Lane\, Rohnert Park\, CA\, 94928\, United States
CATEGORIES:Monthly Meeting/Demo
ORGANIZER;CN="Bob Shimon":MAILTO:shimon@mcn.org
END:VEVENT
BEGIN:VEVENT
DTSTART;TZID=America/Los_Angeles:20261224T190000
DTEND;TZID=America/Los_Angeles:20261224T210000
DTSTAMP:20260423T120947
CREATED:20260118T180452Z
LAST-MODIFIED:20260118T180452Z
UID:11714-1798138800-1798146000@www.rebsbonsai.org
SUMMARY:No Meetings due to Holidays
DESCRIPTION:No Meetings due to Holidays
URL:https://www.rebsbonsai.org/event/no-meetings-due-to-holidays/
LOCATION:CA
CATEGORIES:Monthly Meeting/Demo
ORGANIZER;CN="Bob Shimon":MAILTO:shimon@mcn.org
END:VEVENT
END:VCALENDAR