BEGIN:VCALENDAR
VERSION:2.0
PRODID:-//REBS website - ECPv6.15.20//NONSGML v1.0//EN
CALSCALE:GREGORIAN
METHOD:PUBLISH
X-WR-CALNAME:REBS website
X-ORIGINAL-URL:https://www.rebsbonsai.org
X-WR-CALDESC:Events for REBS website
REFRESH-INTERVAL;VALUE=DURATION:PT1H
X-Robots-Tag:noindex
X-PUBLISHED-TTL:PT1H
BEGIN:VTIMEZONE
TZID:America/Los_Angeles
BEGIN:DAYLIGHT
TZOFFSETFROM:-0800
TZOFFSETTO:-0700
TZNAME:PDT
DTSTART:20230312T100000
END:DAYLIGHT
BEGIN:STANDARD
TZOFFSETFROM:-0700
TZOFFSETTO:-0800
TZNAME:PST
DTSTART:20231105T090000
END:STANDARD
BEGIN:DAYLIGHT
TZOFFSETFROM:-0800
TZOFFSETTO:-0700
TZNAME:PDT
DTSTART:20240310T100000
END:DAYLIGHT
BEGIN:STANDARD
TZOFFSETFROM:-0700
TZOFFSETTO:-0800
TZNAME:PST
DTSTART:20241103T090000
END:STANDARD
BEGIN:DAYLIGHT
TZOFFSETFROM:-0800
TZOFFSETTO:-0700
TZNAME:PDT
DTSTART:20250309T100000
END:DAYLIGHT
BEGIN:STANDARD
TZOFFSETFROM:-0700
TZOFFSETTO:-0800
TZNAME:PST
DTSTART:20251102T090000
END:STANDARD
END:VTIMEZONE
BEGIN:VEVENT
DTSTART;TZID=America/Los_Angeles:20241024T180000
DTEND;TZID=America/Los_Angeles:20241024T210000
DTSTAMP:20260422T000722
CREATED:20240504T173649Z
LAST-MODIFIED:20240504T173649Z
UID:9970-1729792800-1729803600@www.rebsbonsai.org
SUMMARY:Bjorn Bjorholm Bonsai Demonstration
DESCRIPTION:Shimpaku Juniper field grown by Ed Clark of Round Valley Nursery. \nRohnert Park Senior Center\, 6800 Hunter Drive\, Rohnert Park\, California 94928 \nNote: Location is not REBS’ regular monthly meeting venue\, but located nearby. \nNo fee \nDemo tree will be raffled \nNo RSVP\, seating capacity of 75
URL:https://www.rebsbonsai.org/event/bjorn-bjorholm-bonsai-demonstration/
LOCATION:Rohnert Park Senior Center\, 6800 Hunter Drive\, Rohnert Park\, CA\, 94928\, United States
CATEGORIES:Monthly Meeting/Demo
ORGANIZER;CN="Bob Shimon":MAILTO:shimon@mcn.org
END:VEVENT
END:VCALENDAR