BEGIN:VCALENDAR
VERSION:2.0
PRODID:-//REBS website - ECPv6.15.20//NONSGML v1.0//EN
CALSCALE:GREGORIAN
METHOD:PUBLISH
X-WR-CALNAME:REBS website
X-ORIGINAL-URL:https://www.rebsbonsai.org
X-WR-CALDESC:Events for REBS website
REFRESH-INTERVAL;VALUE=DURATION:PT1H
X-Robots-Tag:noindex
X-PUBLISHED-TTL:PT1H
BEGIN:VTIMEZONE
TZID:America/Los_Angeles
BEGIN:DAYLIGHT
TZOFFSETFROM:-0800
TZOFFSETTO:-0700
TZNAME:PDT
DTSTART:20210314T100000
END:DAYLIGHT
BEGIN:STANDARD
TZOFFSETFROM:-0700
TZOFFSETTO:-0800
TZNAME:PST
DTSTART:20211107T090000
END:STANDARD
BEGIN:DAYLIGHT
TZOFFSETFROM:-0800
TZOFFSETTO:-0700
TZNAME:PDT
DTSTART:20220313T100000
END:DAYLIGHT
BEGIN:STANDARD
TZOFFSETFROM:-0700
TZOFFSETTO:-0800
TZNAME:PST
DTSTART:20221106T090000
END:STANDARD
BEGIN:DAYLIGHT
TZOFFSETFROM:-0800
TZOFFSETTO:-0700
TZNAME:PDT
DTSTART:20230312T100000
END:DAYLIGHT
BEGIN:STANDARD
TZOFFSETFROM:-0700
TZOFFSETTO:-0800
TZNAME:PST
DTSTART:20231105T090000
END:STANDARD
END:VTIMEZONE
BEGIN:VEVENT
DTSTART;TZID=America/Los_Angeles:20220526T193000
DTEND;TZID=America/Los_Angeles:20220526T213000
DTSTAMP:20260424T040952
CREATED:20220328T122041Z
LAST-MODIFIED:20220328T122041Z
UID:6000-1653593400-1653600600@www.rebsbonsai.org
SUMMARY:General Meeting & Demonstration
DESCRIPTION:Guest demonstrator is Boon Manakitivipart of Bay Island Bonsai.
URL:https://www.rebsbonsai.org/event/general-meeting-demonstration-2/
LOCATION:Franklin Park Clubhouse\, 2095 Franklin Avenue\, Santa Rosa\, CA\, 95404\, United States
CATEGORIES:Monthly Meeting/Demo
END:VEVENT
END:VCALENDAR