BEGIN:VCALENDAR
VERSION:2.0
PRODID:-//REBS website - ECPv6.15.20//NONSGML v1.0//EN
CALSCALE:GREGORIAN
METHOD:PUBLISH
X-ORIGINAL-URL:https://www.rebsbonsai.org
X-WR-CALDESC:Events for REBS website
REFRESH-INTERVAL;VALUE=DURATION:PT1H
X-Robots-Tag:noindex
X-PUBLISHED-TTL:PT1H
BEGIN:VTIMEZONE
TZID:America/Los_Angeles
BEGIN:DAYLIGHT
TZOFFSETFROM:-0800
TZOFFSETTO:-0700
TZNAME:PDT
DTSTART:20230312T100000
END:DAYLIGHT
BEGIN:STANDARD
TZOFFSETFROM:-0700
TZOFFSETTO:-0800
TZNAME:PST
DTSTART:20231105T090000
END:STANDARD
BEGIN:DAYLIGHT
TZOFFSETFROM:-0800
TZOFFSETTO:-0700
TZNAME:PDT
DTSTART:20240310T100000
END:DAYLIGHT
BEGIN:STANDARD
TZOFFSETFROM:-0700
TZOFFSETTO:-0800
TZNAME:PST
DTSTART:20241103T090000
END:STANDARD
BEGIN:DAYLIGHT
TZOFFSETFROM:-0800
TZOFFSETTO:-0700
TZNAME:PDT
DTSTART:20250309T100000
END:DAYLIGHT
BEGIN:STANDARD
TZOFFSETFROM:-0700
TZOFFSETTO:-0800
TZNAME:PST
DTSTART:20251102T090000
END:STANDARD
END:VTIMEZONE
BEGIN:VEVENT
DTSTART;TZID=America/Los_Angeles:20241025T090000
DTEND;TZID=America/Los_Angeles:20241025T150000
DTSTAMP:20260425T153348
CREATED:20240504T174049Z
LAST-MODIFIED:20240504T174049Z
UID:9975-1729846800-1729868400@www.rebsbonsai.org
SUMMARY:Bjorn Bjorholm Bonsai Workshop
DESCRIPTION:Private home located in Sebastopol\, California 95472 \nBring your own tree \nCost is $185 \nLimited capacity six students \nContact organizer Bob Shimon at Shimon@mcn.org to sign up for the workshop. \nFirst come first served basis
URL:https://www.rebsbonsai.org/event/bjorn-bjorholm-bonsai-workshop/
CATEGORIES:Advanced Workshop
ORGANIZER;CN="Bob Shimon":MAILTO:shimon@mcn.org
END:VEVENT
END:VCALENDAR